BEGIN:VCALENDAR
VERSION:2.0
PRODID:-//Goodwill Methodist Church - ECPv6.15.20//NONSGML v1.0//EN
CALSCALE:GREGORIAN
METHOD:PUBLISH
X-WR-CALNAME:Goodwill Methodist Church
X-ORIGINAL-URL:https://goodwillmethodistchurch.org
X-WR-CALDESC:Events for Goodwill Methodist Church
REFRESH-INTERVAL;VALUE=DURATION:PT1H
X-Robots-Tag:noindex
X-PUBLISHED-TTL:PT1H
BEGIN:VTIMEZONE
TZID:UTC
BEGIN:STANDARD
TZOFFSETFROM:+0000
TZOFFSETTO:+0000
TZNAME:UTC
DTSTART:20220101T000000
END:STANDARD
END:VTIMEZONE
BEGIN:VEVENT
DTSTART;TZID=UTC:20231224T103000
DTEND;TZID=UTC:20231224T103000
DTSTAMP:20260421T133113
CREATED:20231020T153845Z
LAST-MODIFIED:20231020T154345Z
UID:189-1703413800-1703413800@goodwillmethodistchurch.org
SUMMARY:Christmas Eve Sunday Morning Cantata with the Goodwill Choir
DESCRIPTION:
URL:https://goodwillmethodistchurch.org/event/christmas-eve-sunday-morning-cantata-with-the-goodwill-choir/
LOCATION:Goodwill Church\, 148 Church Rd\, Elverson\, PA\, 19520
CATEGORIES:Christmas
END:VEVENT
BEGIN:VEVENT
DTSTART;TZID=UTC:20231224T180000
DTEND;TZID=UTC:20231224T190000
DTSTAMP:20260421T133113
CREATED:20231020T153927Z
LAST-MODIFIED:20231020T153927Z
UID:191-1703440800-1703444400@goodwillmethodistchurch.org
SUMMARY:Christmas Eve Children's Worship Service
DESCRIPTION:
URL:https://goodwillmethodistchurch.org/event/christmas-eve-childrens-worship-service/
LOCATION:Goodwill Church\, 148 Church Rd\, Elverson\, PA\, 19520
CATEGORIES:Christmas
END:VEVENT
BEGIN:VEVENT
DTSTART;TZID=UTC:20231224T190000
DTEND;TZID=UTC:20231224T200000
DTSTAMP:20260421T133113
CREATED:20231020T154011Z
LAST-MODIFIED:20231020T154458Z
UID:193-1703444400-1703448000@goodwillmethodistchurch.org
SUMMARY:Christmas Eve Traditional Candlelight Worship
DESCRIPTION:
URL:https://goodwillmethodistchurch.org/event/christmas-eve-traditional-candlelight-worship/
LOCATION:Goodwill Church\, 148 Church Rd\, Elverson\, PA\, 19520
CATEGORIES:Christmas
END:VEVENT
END:VCALENDAR