BEGIN:VCALENDAR
VERSION:2.0
PRODID:-//Goodwill Methodist Church - ECPv6.15.20//NONSGML v1.0//EN
CALSCALE:GREGORIAN
METHOD:PUBLISH
X-ORIGINAL-URL:https://goodwillmethodistchurch.org
X-WR-CALDESC:Events for Goodwill Methodist Church
REFRESH-INTERVAL;VALUE=DURATION:PT1H
X-Robots-Tag:noindex
X-PUBLISHED-TTL:PT1H
BEGIN:VTIMEZONE
TZID:UTC
BEGIN:STANDARD
TZOFFSETFROM:+0000
TZOFFSETTO:+0000
TZNAME:UTC
DTSTART:20230101T000000
END:STANDARD
END:VTIMEZONE
BEGIN:VEVENT
DTSTART;TZID=UTC:20240331T063000
DTEND;TZID=UTC:20240331T070000
DTSTAMP:20260421T134558
CREATED:20240220T003741Z
LAST-MODIFIED:20240315T000846Z
UID:638-1711866600-1711868400@goodwillmethodistchurch.org
SUMMARY:Easter Sunrise Service
DESCRIPTION:
URL:https://goodwillmethodistchurch.org/event/easter-sunrise-service/
LOCATION:Goodwill Church\, 148 Church Rd\, Elverson\, PA\, 19520
CATEGORIES:Holy Week
ATTACH;FMTTYPE=image/jpeg:https://goodwillmethodistchurch.org/wp-content/uploads/2024/02/Easter-e1708390266348.jpg
END:VEVENT
BEGIN:VEVENT
DTSTART;TZID=UTC:20240331T070000
DTEND;TZID=UTC:20240331T080000
DTSTAMP:20260421T134558
CREATED:20240220T003824Z
LAST-MODIFIED:20240220T003824Z
UID:641-1711868400-1711872000@goodwillmethodistchurch.org
SUMMARY:Easter Breakfast
DESCRIPTION:
URL:https://goodwillmethodistchurch.org/event/easter-breakfast/
LOCATION:PA
CATEGORIES:Holy Week
END:VEVENT
BEGIN:VEVENT
DTSTART;TZID=UTC:20240331T103000
DTEND;TZID=UTC:20240331T113000
DTSTAMP:20260421T134558
CREATED:20240220T003903Z
LAST-MODIFIED:20240220T005001Z
UID:643-1711881000-1711884600@goodwillmethodistchurch.org
SUMMARY:Easter Service
DESCRIPTION:
URL:https://goodwillmethodistchurch.org/event/easter-service/
LOCATION:Goodwill Church\, 148 Church Rd\, Elverson\, PA\, 19520
CATEGORIES:Holy Week
ATTACH;FMTTYPE=image/jpeg:https://goodwillmethodistchurch.org/wp-content/uploads/2024/02/Easter-2-e1708390166638.jpg
END:VEVENT
END:VCALENDAR